BEGIN:VCALENDAR
VERSION:2.0
PRODID:-//Adoption First Animal Rescue - ECPv6.15.11//NONSGML v1.0//EN
CALSCALE:GREGORIAN
METHOD:PUBLISH
X-ORIGINAL-URL:https://adoptionfirstanimalrescue.com
X-WR-CALDESC:Events for Adoption First Animal Rescue
REFRESH-INTERVAL;VALUE=DURATION:PT1H
X-Robots-Tag:noindex
X-PUBLISHED-TTL:PT1H
BEGIN:VTIMEZONE
TZID:America/Halifax
BEGIN:DAYLIGHT
TZOFFSETFROM:-0400
TZOFFSETTO:-0300
TZNAME:ADT
DTSTART:20250309T060000
END:DAYLIGHT
BEGIN:STANDARD
TZOFFSETFROM:-0300
TZOFFSETTO:-0400
TZNAME:AST
DTSTART:20251102T050000
END:STANDARD
BEGIN:DAYLIGHT
TZOFFSETFROM:-0400
TZOFFSETTO:-0300
TZNAME:ADT
DTSTART:20260308T060000
END:DAYLIGHT
BEGIN:STANDARD
TZOFFSETFROM:-0300
TZOFFSETTO:-0400
TZNAME:AST
DTSTART:20261101T050000
END:STANDARD
BEGIN:DAYLIGHT
TZOFFSETFROM:-0400
TZOFFSETTO:-0300
TZNAME:ADT
DTSTART:20270314T060000
END:DAYLIGHT
BEGIN:STANDARD
TZOFFSETFROM:-0300
TZOFFSETTO:-0400
TZNAME:AST
DTSTART:20271107T050000
END:STANDARD
END:VTIMEZONE
BEGIN:VEVENT
DTSTART;TZID=America/Halifax:20260425T120000
DTEND;TZID=America/Halifax:20260425T160000
DTSTAMP:20260424T161226
CREATED:20260312T190346Z
LAST-MODIFIED:20260312T190346Z
UID:10000061-1777118400-1777132800@adoptionfirstanimalrescue.com
SUMMARY:PetSmart Adoption Event- Yopp
DESCRIPTION:
URL:https://adoptionfirstanimalrescue.com/event-single/petsmart-adoption-event-yopp/
LOCATION:NC
END:VEVENT
END:VCALENDAR