BEGIN:VCALENDAR
VERSION:2.0
PRODID:-//Adoption First Animal Rescue - ECPv6.15.11//NONSGML v1.0//EN
CALSCALE:GREGORIAN
METHOD:PUBLISH
X-WR-CALNAME:Adoption First Animal Rescue
X-ORIGINAL-URL:https://adoptionfirstanimalrescue.com
X-WR-CALDESC:Events for Adoption First Animal Rescue
REFRESH-INTERVAL;VALUE=DURATION:PT1H
X-Robots-Tag:noindex
X-PUBLISHED-TTL:PT1H
BEGIN:VTIMEZONE
TZID:America/Halifax
BEGIN:DAYLIGHT
TZOFFSETFROM:-0400
TZOFFSETTO:-0300
TZNAME:ADT
DTSTART:20240310T060000
END:DAYLIGHT
BEGIN:STANDARD
TZOFFSETFROM:-0300
TZOFFSETTO:-0400
TZNAME:AST
DTSTART:20241103T050000
END:STANDARD
BEGIN:DAYLIGHT
TZOFFSETFROM:-0400
TZOFFSETTO:-0300
TZNAME:ADT
DTSTART:20250309T060000
END:DAYLIGHT
BEGIN:STANDARD
TZOFFSETFROM:-0300
TZOFFSETTO:-0400
TZNAME:AST
DTSTART:20251102T050000
END:STANDARD
BEGIN:DAYLIGHT
TZOFFSETFROM:-0400
TZOFFSETTO:-0300
TZNAME:ADT
DTSTART:20260308T060000
END:DAYLIGHT
BEGIN:STANDARD
TZOFFSETFROM:-0300
TZOFFSETTO:-0400
TZNAME:AST
DTSTART:20261101T050000
END:STANDARD
BEGIN:DAYLIGHT
TZOFFSETFROM:-0400
TZOFFSETTO:-0300
TZNAME:ADT
DTSTART:20270314T060000
END:DAYLIGHT
BEGIN:STANDARD
TZOFFSETFROM:-0300
TZOFFSETTO:-0400
TZNAME:AST
DTSTART:20271107T050000
END:STANDARD
END:VTIMEZONE
BEGIN:VEVENT
DTSTART;TZID=America/Halifax:20260418T120000
DTEND;TZID=America/Halifax:20260418T150000
DTSTAMP:20260424T210041
CREATED:20260209T020337Z
LAST-MODIFIED:20260209T020337Z
UID:10000046-1776513600-1776524400@adoptionfirstanimalrescue.com
SUMMARY:Unleashed Adoption Event
DESCRIPTION:
URL:https://adoptionfirstanimalrescue.com/event-single/unleashed-adoption-event-2/
LOCATION:Unleashed LLC- Southport\, 1671 N. Howe St\, Southport\, NC\, 28461\, United States
END:VEVENT
BEGIN:VEVENT
DTSTART;TZID=America/Halifax:20260404T080000
DTEND;TZID=America/Halifax:20260404T170000
DTSTAMP:20260424T210041
CREATED:20260209T020254Z
LAST-MODIFIED:20260209T020254Z
UID:10000045-1775289600-1775322000@adoptionfirstanimalrescue.com
SUMMARY:Strutt With Your Mutt 5k or 1 Mile Fun Run
DESCRIPTION:Check out our Facebook Page for more details.
URL:https://adoptionfirstanimalrescue.com/event-single/strutt-with-your-mutt-5k-or-1-mile-fun-run/
LOCATION:English Country Barn\, 147 Sanderson Road\, Magnolia\, NC\, 28453\, United States
END:VEVENT
BEGIN:VEVENT
DTSTART;TZID=America/Halifax:20260329T120000
DTEND;TZID=America/Halifax:20260329T160000
DTSTAMP:20260424T210041
CREATED:20260312T190259Z
LAST-MODIFIED:20260312T190259Z
UID:10000060-1774785600-1774800000@adoptionfirstanimalrescue.com
SUMMARY:PetSmart Adoption Event- Yopp Rd
DESCRIPTION:
URL:https://adoptionfirstanimalrescue.com/event-single/petsmart-adoption-event-yopp-rd/
LOCATION:NC
END:VEVENT
BEGIN:VEVENT
DTSTART;TZID=America/Halifax:20260328T120000
DTEND;TZID=America/Halifax:20260328T160000
DTSTAMP:20260424T210041
CREATED:20260209T015838Z
LAST-MODIFIED:20260312T190142Z
UID:10000043-1774699200-1774713600@adoptionfirstanimalrescue.com
SUMMARY:Petsmart Adoption Event
DESCRIPTION:
URL:https://adoptionfirstanimalrescue.com/event-single/petsmart-adoption-event-3/
LOCATION:Petsmart- Western\, 1335 Western Blvd\, Jacksonville\, NC\, 28546\, United States
END:VEVENT
BEGIN:VEVENT
DTSTART;TZID=America/Halifax:20260313T180000
DTEND;TZID=America/Halifax:20260313T200000
DTSTAMP:20260424T210041
CREATED:20260209T021005Z
LAST-MODIFIED:20260209T021005Z
UID:10000052-1773424800-1773432000@adoptionfirstanimalrescue.com
SUMMARY:Bingo Fundraiser
DESCRIPTION:Check out our Facebook Page for more details!
URL:https://adoptionfirstanimalrescue.com/event-single/bingo-fundraiser-3/
LOCATION:Northwoods United Methodist Church
END:VEVENT
BEGIN:VEVENT
DTSTART;TZID=America/Halifax:20260228T090000
DTEND;TZID=America/Halifax:20260228T140000
DTSTAMP:20260424T210041
CREATED:20260209T015756Z
LAST-MODIFIED:20260209T015756Z
UID:10000042-1772269200-1772287200@adoptionfirstanimalrescue.com
SUMMARY:Vaccine Clinic
DESCRIPTION:Check out our Facebook Page for more details on this event.
URL:https://adoptionfirstanimalrescue.com/event-single/vaccine-clinic/
LOCATION:Adoption First Veterinary Clinic\, 114 Enterprise Street Jacksonville NC 28546\, Jacksonville\, NC\, 28546\, United States
END:VEVENT
BEGIN:VEVENT
DTSTART;TZID=America/Halifax:20260221T120000
DTEND;TZID=America/Halifax:20260221T160000
DTSTAMP:20260424T210041
CREATED:20260209T015632Z
LAST-MODIFIED:20260209T015632Z
UID:10000041-1771675200-1771689600@adoptionfirstanimalrescue.com
SUMMARY:Petsmart Adoption Event
DESCRIPTION:
URL:https://adoptionfirstanimalrescue.com/event-single/petsmart-adoption-event-2/
LOCATION:Petsmart- Western\, 1335 Western Blvd\, Jacksonville\, NC\, 28546\, United States
END:VEVENT
BEGIN:VEVENT
DTSTART;TZID=America/Halifax:20260215T120000
DTEND;TZID=America/Halifax:20260215T150000
DTSTAMP:20260424T210041
CREATED:20260209T015546Z
LAST-MODIFIED:20260209T015546Z
UID:10000040-1771156800-1771167600@adoptionfirstanimalrescue.com
SUMMARY:Unleashed Adoption Event
DESCRIPTION:
URL:https://adoptionfirstanimalrescue.com/event-single/unleashed-adoption-event/
LOCATION:Unleashed- Military Cutoff Location\, 1319 Military Cutoff Rd\, Wilmington\, NC\, 28405\, United States
END:VEVENT
BEGIN:VEVENT
DTSTART;TZID=America/Halifax:20251115T110000
DTEND;TZID=America/Halifax:20251115T150000
DTSTAMP:20260424T210041
CREATED:20250403T115200Z
LAST-MODIFIED:20250404T165748Z
UID:10000016-1763204400-1763218800@adoptionfirstanimalrescue.com
SUMMARY:Petsmart- Adoption
DESCRIPTION:
URL:https://adoptionfirstanimalrescue.com/event-single/petsmart-adoption-7/
LOCATION:NC
ATTACH;FMTTYPE=image/jpeg:https://adoptionfirstanimalrescue.com/wp-content/uploads/2025/04/pexels-francesco-ungaro-96938-scaled.jpg
END:VEVENT
BEGIN:VEVENT
DTSTART;TZID=America/Halifax:20251101T120000
DTEND;TZID=America/Halifax:20251101T150000
DTSTAMP:20260424T210041
CREATED:20250625T190034Z
LAST-MODIFIED:20250625T190034Z
UID:10000029-1761998400-1762009200@adoptionfirstanimalrescue.com
SUMMARY:PetSense Adoption Event
DESCRIPTION:
URL:https://adoptionfirstanimalrescue.com/event-single/petsense-adoption-event-4/
LOCATION:PetSense- Cape Carteret\, 225 W McClean Drive\, Cape Carteret\, NC\, 28584\, United States
END:VEVENT
BEGIN:VEVENT
DTSTART;TZID=America/Halifax:20251101T100000
DTEND;TZID=America/Halifax:20251101T150000
DTSTAMP:20260424T210041
CREATED:20250403T114033Z
LAST-MODIFIED:20250818T152959Z
UID:10000014-1761991200-1762009200@adoptionfirstanimalrescue.com
SUMMARY:Par 4 Paws- North Shore Golf Club Tournament
DESCRIPTION:
URL:https://adoptionfirstanimalrescue.com/event-single/par-4-paws-north-shore-golf-club-tournament/
LOCATION:NC
ATTACH;FMTTYPE=image/jpeg:https://adoptionfirstanimalrescue.com/wp-content/uploads/2025/04/pexels-ihsanaditya-1056467-scaled.jpg
END:VEVENT
BEGIN:VEVENT
DTSTART;TZID=America/Halifax:20251101T080000
DTEND;TZID=America/Halifax:20251101T230000
DTSTAMP:20260424T210041
CREATED:20250403T114630Z
LAST-MODIFIED:20250404T165825Z
UID:10000015-1761984000-1762038000@adoptionfirstanimalrescue.com
SUMMARY:Fuzzy Peach 5k
DESCRIPTION:
URL:https://adoptionfirstanimalrescue.com/event-single/fuzzy-peach-5k/
LOCATION:NC
ATTACH;FMTTYPE=image/jpeg:https://adoptionfirstanimalrescue.com/wp-content/uploads/2025/04/pexels-aleksandar-cvetanovic-605352-1560424-scaled.jpg
END:VEVENT
BEGIN:VEVENT
DTSTART;TZID=America/Halifax:20251019T120000
DTEND;TZID=America/Halifax:20251019T150000
DTSTAMP:20260424T210041
CREATED:20250625T185953Z
LAST-MODIFIED:20250625T185953Z
UID:10000028-1760875200-1760886000@adoptionfirstanimalrescue.com
SUMMARY:PetSense Adoption Event
DESCRIPTION:
URL:https://adoptionfirstanimalrescue.com/event-single/petsense-adoption-event-3/
LOCATION:PetSense- Cape Carteret\, 225 W McClean Drive\, Cape Carteret\, NC\, 28584\, United States
END:VEVENT
BEGIN:VEVENT
DTSTART;TZID=America/Halifax:20251018T110000
DTEND;TZID=America/Halifax:20251018T150000
DTSTAMP:20260424T210041
CREATED:20250403T113633Z
LAST-MODIFIED:20250404T165901Z
UID:10000013-1760785200-1760799600@adoptionfirstanimalrescue.com
SUMMARY:Petsmart- Adoption
DESCRIPTION:
URL:https://adoptionfirstanimalrescue.com/event-single/petsmart-adoption-6/
LOCATION:NC
ATTACH;FMTTYPE=image/jpeg:https://adoptionfirstanimalrescue.com/wp-content/uploads/2025/04/pexels-stefanstefancik-92380.jpg
END:VEVENT
BEGIN:VEVENT
DTSTART;TZID=America/Halifax:20251010T130000
DTEND;TZID=America/Halifax:20251010T160000
DTSTAMP:20260424T210041
CREATED:20250925T135224Z
LAST-MODIFIED:20250925T135224Z
UID:10000039-1760101200-1760112000@adoptionfirstanimalrescue.com
SUMMARY:Subaru
DESCRIPTION:
URL:https://adoptionfirstanimalrescue.com/event-single/subaru/
LOCATION:Subaru\, 2400 N Marine Blvd\, Jacksonville\, NC\, 28546\, United States
END:VEVENT
BEGIN:VEVENT
DTSTART;TZID=America/Halifax:20251004T110000
DTEND;TZID=America/Halifax:20251004T150000
DTSTAMP:20260424T210041
CREATED:20250625T185842Z
LAST-MODIFIED:20250625T185842Z
UID:10000027-1759575600-1759590000@adoptionfirstanimalrescue.com
SUMMARY:Subaru Loves Pets Adoption Event
DESCRIPTION:
URL:https://adoptionfirstanimalrescue.com/event-single/subaru-loves-pets-adoption-event/
LOCATION:Subaru\, 2400 N Marine Blvd\, Jacksonville\, NC\, 28546\, United States
END:VEVENT
BEGIN:VEVENT
DTSTART;TZID=America/Halifax:20250927T100000
DTEND;TZID=America/Halifax:20250927T140000
DTSTAMP:20260424T210041
CREATED:20250625T183827Z
LAST-MODIFIED:20250625T183827Z
UID:10000025-1758967200-1758981600@adoptionfirstanimalrescue.com
SUMMARY:Barkfest
DESCRIPTION:
URL:https://adoptionfirstanimalrescue.com/event-single/barkfest/
LOCATION:Barkfest- Swansboro\, 830 Main Street Extension\, Swansboro\, NC\, 28584\, United States
END:VEVENT
BEGIN:VEVENT
DTSTART;TZID=America/Halifax:20250926T180000
DTEND;TZID=America/Halifax:20250926T200000
DTSTAMP:20260424T210041
CREATED:20250721T131512Z
LAST-MODIFIED:20250721T131512Z
UID:10000034-1758909600-1758916800@adoptionfirstanimalrescue.com
SUMMARY:Bingo Fundraiser
DESCRIPTION:
URL:https://adoptionfirstanimalrescue.com/event-single/bingo-fundraiser-2/
LOCATION:Northwoods United Methodist Church
END:VEVENT
BEGIN:VEVENT
DTSTART;TZID=America/Halifax:20250921T150000
DTEND;TZID=America/Halifax:20250921T190000
DTSTAMP:20260424T210041
CREATED:20250625T183947Z
LAST-MODIFIED:20250625T183947Z
UID:10000026-1758466800-1758481200@adoptionfirstanimalrescue.com
SUMMARY:Salty Turtle-Octoberfest
DESCRIPTION:
URL:https://adoptionfirstanimalrescue.com/event-single/salty-turtle-octoberfest/
LOCATION:Salty Turtle\, 103 Triton Lane\, Surf City\, NC\, 28445\, United States
END:VEVENT
BEGIN:VEVENT
DTSTART;TZID=America/Halifax:20250920T140000
DTEND;TZID=America/Halifax:20250920T170000
DTSTAMP:20260424T210041
CREATED:20250911T155144Z
LAST-MODIFIED:20250911T155144Z
UID:10000036-1758376800-1758387600@adoptionfirstanimalrescue.com
SUMMARY:Back Yard Tavern
DESCRIPTION:
URL:https://adoptionfirstanimalrescue.com/event-single/back-yard-tavern/
LOCATION:BackYard Tavern\, 1940 NC Hwy 172\, Sneads Ferry\, NC\, 28460\, United States
END:VEVENT
BEGIN:VEVENT
DTSTART;TZID=America/Halifax:20250920T110000
DTEND;TZID=America/Halifax:20250920T150000
DTSTAMP:20260424T210041
CREATED:20250625T183632Z
LAST-MODIFIED:20250625T183632Z
UID:10000023-1758366000-1758380400@adoptionfirstanimalrescue.com
SUMMARY:Petsmart Adoption Event
DESCRIPTION:
URL:https://adoptionfirstanimalrescue.com/event-single/petsmart-adoption-event/
LOCATION:Petsmart- Western\, 1335 Western Blvd\, Jacksonville\, NC\, 28546\, United States
END:VEVENT
BEGIN:VEVENT
DTSTART;TZID=America/Halifax:20250920T103000
DTEND;TZID=America/Halifax:20250920T133000
DTSTAMP:20260424T210041
CREATED:20250916T153621Z
LAST-MODIFIED:20250916T153621Z
UID:10000037-1758364200-1758375000@adoptionfirstanimalrescue.com
SUMMARY:402 Johnson Court- Open House Adoption Event
DESCRIPTION:
URL:https://adoptionfirstanimalrescue.com/event-single/402-johnson-court-open-house-adoption-event/
LOCATION:NC
END:VEVENT
END:VCALENDAR