BEGIN:VCALENDAR
VERSION:2.0
PRODID:-//Adoption First Animal Rescue - ECPv6.15.11//NONSGML v1.0//EN
CALSCALE:GREGORIAN
METHOD:PUBLISH
X-ORIGINAL-URL:https://adoptionfirstanimalrescue.com
X-WR-CALDESC:Events for Adoption First Animal Rescue
REFRESH-INTERVAL;VALUE=DURATION:PT1H
X-Robots-Tag:noindex
X-PUBLISHED-TTL:PT1H
BEGIN:VTIMEZONE
TZID:America/Halifax
BEGIN:DAYLIGHT
TZOFFSETFROM:-0400
TZOFFSETTO:-0300
TZNAME:ADT
DTSTART:20250309T060000
END:DAYLIGHT
BEGIN:STANDARD
TZOFFSETFROM:-0300
TZOFFSETTO:-0400
TZNAME:AST
DTSTART:20251102T050000
END:STANDARD
BEGIN:DAYLIGHT
TZOFFSETFROM:-0400
TZOFFSETTO:-0300
TZNAME:ADT
DTSTART:20260308T060000
END:DAYLIGHT
BEGIN:STANDARD
TZOFFSETFROM:-0300
TZOFFSETTO:-0400
TZNAME:AST
DTSTART:20261101T050000
END:STANDARD
BEGIN:DAYLIGHT
TZOFFSETFROM:-0400
TZOFFSETTO:-0300
TZNAME:ADT
DTSTART:20270314T060000
END:DAYLIGHT
BEGIN:STANDARD
TZOFFSETFROM:-0300
TZOFFSETTO:-0400
TZNAME:AST
DTSTART:20271107T050000
END:STANDARD
END:VTIMEZONE
BEGIN:VEVENT
DTSTART;TZID=America/Halifax:20261024T120000
DTEND;TZID=America/Halifax:20261024T160000
DTSTAMP:20260424T130317
CREATED:20260209T021442Z
LAST-MODIFIED:20260209T021442Z
UID:10000057-1792843200-1792857600@adoptionfirstanimalrescue.com
SUMMARY:PetsMart Adoption Event
DESCRIPTION:
URL:https://adoptionfirstanimalrescue.com/event-single/petsmart-adoption-event-7/
LOCATION:Petsmart- Western\, 1335 Western Blvd\, Jacksonville\, NC\, 28546\, United States
END:VEVENT
BEGIN:VEVENT
DTSTART;TZID=America/Halifax:20261114T120000
DTEND;TZID=America/Halifax:20261114T160000
DTSTAMP:20260424T130317
CREATED:20260209T021517Z
LAST-MODIFIED:20260209T021517Z
UID:10000058-1794657600-1794672000@adoptionfirstanimalrescue.com
SUMMARY:PetsMart Adoption Event
DESCRIPTION:
URL:https://adoptionfirstanimalrescue.com/event-single/petsmart-adoption-event-8/
LOCATION:Petsmart- Western\, 1335 Western Blvd\, Jacksonville\, NC\, 28546\, United States
END:VEVENT
BEGIN:VEVENT
DTSTART;TZID=America/Halifax:20261213T120000
DTEND;TZID=America/Halifax:20261213T150000
DTSTAMP:20260424T130317
CREATED:20260209T021556Z
LAST-MODIFIED:20260209T021556Z
UID:10000059-1797163200-1797174000@adoptionfirstanimalrescue.com
SUMMARY:Unleashed Adoption Event
DESCRIPTION:
URL:https://adoptionfirstanimalrescue.com/event-single/unleashed-adoption-event-5/
LOCATION:Unleashed- Military Cutoff Location\, 1319 Military Cutoff Rd\, Wilmington\, NC\, 28405\, United States
END:VEVENT
END:VCALENDAR