BEGIN:VCALENDAR
VERSION:2.0
PRODID:-//Adoption First Animal Rescue - ECPv6.15.11//NONSGML v1.0//EN
CALSCALE:GREGORIAN
METHOD:PUBLISH
X-ORIGINAL-URL:https://adoptionfirstanimalrescue.com
X-WR-CALDESC:Events for Adoption First Animal Rescue
REFRESH-INTERVAL;VALUE=DURATION:PT1H
X-Robots-Tag:noindex
X-PUBLISHED-TTL:PT1H
BEGIN:VTIMEZONE
TZID:America/Halifax
BEGIN:DAYLIGHT
TZOFFSETFROM:-0400
TZOFFSETTO:-0300
TZNAME:ADT
DTSTART:20250309T060000
END:DAYLIGHT
BEGIN:STANDARD
TZOFFSETFROM:-0300
TZOFFSETTO:-0400
TZNAME:AST
DTSTART:20251102T050000
END:STANDARD
BEGIN:DAYLIGHT
TZOFFSETFROM:-0400
TZOFFSETTO:-0300
TZNAME:ADT
DTSTART:20260308T060000
END:DAYLIGHT
BEGIN:STANDARD
TZOFFSETFROM:-0300
TZOFFSETTO:-0400
TZNAME:AST
DTSTART:20261101T050000
END:STANDARD
BEGIN:DAYLIGHT
TZOFFSETFROM:-0400
TZOFFSETTO:-0300
TZNAME:ADT
DTSTART:20270314T060000
END:DAYLIGHT
BEGIN:STANDARD
TZOFFSETFROM:-0300
TZOFFSETTO:-0400
TZNAME:AST
DTSTART:20271107T050000
END:STANDARD
END:VTIMEZONE
BEGIN:VEVENT
DTSTART;TZID=America/Halifax:20260313T180000
DTEND;TZID=America/Halifax:20260313T200000
DTSTAMP:20260424T162709
CREATED:20260209T021005Z
LAST-MODIFIED:20260209T021005Z
UID:10000052-1773424800-1773432000@adoptionfirstanimalrescue.com
SUMMARY:Bingo Fundraiser
DESCRIPTION:Check out our Facebook Page for more details!
URL:https://adoptionfirstanimalrescue.com/event-single/bingo-fundraiser-3/
LOCATION:Northwoods United Methodist Church
END:VEVENT
BEGIN:VEVENT
DTSTART;TZID=America/Halifax:20260328T120000
DTEND;TZID=America/Halifax:20260328T160000
DTSTAMP:20260424T162709
CREATED:20260209T015838Z
LAST-MODIFIED:20260312T190142Z
UID:10000043-1774699200-1774713600@adoptionfirstanimalrescue.com
SUMMARY:Petsmart Adoption Event
DESCRIPTION:
URL:https://adoptionfirstanimalrescue.com/event-single/petsmart-adoption-event-3/
LOCATION:Petsmart- Western\, 1335 Western Blvd\, Jacksonville\, NC\, 28546\, United States
END:VEVENT
BEGIN:VEVENT
DTSTART;TZID=America/Halifax:20260329T120000
DTEND;TZID=America/Halifax:20260329T160000
DTSTAMP:20260424T162709
CREATED:20260312T190259Z
LAST-MODIFIED:20260312T190259Z
UID:10000060-1774785600-1774800000@adoptionfirstanimalrescue.com
SUMMARY:PetSmart Adoption Event- Yopp Rd
DESCRIPTION:
URL:https://adoptionfirstanimalrescue.com/event-single/petsmart-adoption-event-yopp-rd/
LOCATION:NC
END:VEVENT
END:VCALENDAR